BEGIN:VCALENDAR
PRODID:-//eluceo/ical//2.0/EN
VERSION:2.0
CALSCALE:GREGORIAN
BEGIN:VEVENT
UID:bb692e39245f9e20872de85d74c469a8
DTSTAMP:20260423T073447Z
SUMMARY:Senior Passover Luncheon
DESCRIPTION:Jewish Federation of Ventura County\nJewish Federation of Ventu
 ra County Calendar\nhttps://jewishventuracounty.org/jewish-federation-of-v
 entura-county-calendar/senior-passover-luncheon\n\nSenior Passover Luncheo
 n
DTSTART;TZID=America/Los_Angeles:20130327T113000
DTEND;TZID=America/Los_Angeles:20130327T140000
END:VEVENT
END:VCALENDAR
