BEGIN:VCALENDAR
PRODID:-//eluceo/ical//2.0/EN
VERSION:2.0
CALSCALE:GREGORIAN
BEGIN:VEVENT
UID:668d22f57fc6c209ae1240a6f69d66a0
DTSTAMP:20260424T033720Z
SUMMARY:TEMPLE NER AMI PICNIC IN THE PARK
DESCRIPTION:Jewish Federation of Ventura County\nCommunity Calendar\nhttps:
 //jewishventuracounty.org/community-calendar/temple-ner-ami-picnic-in-the-
 park\n\nSUNDAY\, AUGUST 28TH\n\nMISSION OAKS PARK!!!\n\n\n\n\n\n\n\n\n\n\n
 \n\n\n\n\n\n\n\n\n\n\n\n\n\n\nTEMPLE NER AMI PICNIC IN THE PARK!!!\n\n
  AT MISSION OAKS PARK \n\n5501 MISSION OAKS BLVD.\n\n \n\nSPONSORED BY 
 THE WOMEN'S AND MEN'S CLUB OF TEMPLE NER AMI AND\n\nTHE TEMPLE NER AM
 I BOARD OF DIRECTORS\n\nLET'S GET TOGE...
DTSTART;TZID=America/Los_Angeles:20220828T113000
DTEND;TZID=America/Los_Angeles:20220828T133000
END:VEVENT
END:VCALENDAR
