BEGIN:VCALENDAR
PRODID:-//eluceo/ical//2.0/EN
VERSION:2.0
CALSCALE:GREGORIAN
BEGIN:VEVENT
UID:aa678669061bc7e1c71960f197d3fa02
DTSTAMP:20260423T205211Z
SUMMARY:Chabad of Ojai - Hanukkah Candle Lighting
DESCRIPTION:Jewish Federation of Ventura County\nCommunity Calendar\nhttps:
 //jewishventuracounty.org/community-calendar/chabad-of-ojai-hanukkah-candl
 e-lighting\n\nJoin Chabad of Ojai for their Hanukkah candle lighting in Li
 bbey Park.  All are welcome!
DTSTART;TZID=America/Los_Angeles:20231210T150000
DTEND;TZID=America/Los_Angeles:20231210T170000
END:VEVENT
END:VCALENDAR
