BEGIN:VCALENDAR
PRODID:-//eluceo/ical//2.0/EN
VERSION:2.0
CALSCALE:GREGORIAN
BEGIN:VEVENT
UID:d861fccb494214bf0a4a220daf1171a2
DTSTAMP:20260424T034014Z
SUMMARY:Rabbi Rami Shapiro Retreat in Santa Barbara
DESCRIPTION:Jewish Federation of Ventura County\nCollege\nhttps://jewishven
 turacounty.org/college/rabbi-rami-shapiro-retreat-in-santa-barbara-38141\n
 \nRabbi Rami Shapiro Retreat
DTSTART;TZID=America/Los_Angeles:20130215T193000
DTEND;TZID=America/Los_Angeles:20130217T130000
END:VEVENT
END:VCALENDAR
