BEGIN:VCALENDAR
PRODID:-//eluceo/ical//2.0/EN
VERSION:2.0
CALSCALE:GREGORIAN
BEGIN:VEVENT
UID:7c480d61116a88e6679ac9fb3be3a9ed
DTSTAMP:20260423T032253Z
SUMMARY:Communities Breed Hate or Tolerance: How is Ventura County Doing?
DESCRIPTION:Jewish Federation of Ventura County\nCollege\nhttps://jewishven
 turacounty.org/college/communities-breed-hate-or-tolerance-120934\n\nCommu
 nities Breed Hate or Tolerance:  How is Ventura County Doing?\n\n \n\nKe
 ynote Speaker:\n\nDeborah Lauter\, Director of Civil Rights\, Anti-Defamat
 ion League\n\n \n\nOctober 21st\, 2:30 p.m. Temple Beth Torah Library\n\n
  \n\nFor more information contact the Federation at 805-647-7800. \n\n 
 \n\nCo-Sponsored  by:\n\nThe Jewish Federation of Ventura County & Anti-D
 efamation League
DTSTART;TZID=America/Los_Angeles:20141021T143000
DTEND;TZID=America/Los_Angeles:20141021T163000
END:VEVENT
END:VCALENDAR
