BEGIN:VCALENDAR
PRODID:-//eluceo/ical//2.0/EN
VERSION:2.0
CALSCALE:GREGORIAN
BEGIN:VEVENT
UID:90bbb535fdfba37f31e14b2b6d8cd406
DTSTAMP:20260423T205221Z
SUMMARY:Ventura County Jewish Family Service Fundraiser
DESCRIPTION:Jewish Federation of Ventura County\nAdults\nhttps://jewishvent
 uracounty.org/adults/ventura-county-jewish-family-service-fundraiser\n\nJF
 S Honors Dr. Ron Pollack at Spanish Hills
DTSTART;TZID=America/Los_Angeles:20130505T170000
DTEND;TZID=America/Los_Angeles:20130505T210000
END:VEVENT
END:VCALENDAR
